Package: MsBackendMassbank Version: 1.15.2 Maintainer: RforMassSpectrometry Package Maintainer MaintainerEmail: maintainer at rformassspectrometry.org git_url: https://git.bioconductor.org/packages/MsBackendMassbank git_branch: devel git_last_commit: 0a91070 git_last_commit_date: 2025-01-17 03:25:07 -0500 (Fri, 17 Jan 2025)