Package: MsBackendMassbank Version: 1.15.2 Command: rm -rf MsBackendMassbank.buildbin-libdir && mkdir MsBackendMassbank.buildbin-libdir && /Users/biocbuild/BBS/utils/build-universal.sh MsBackendMassbank_1.15.2.tar.gz /Library/Frameworks/R.framework/Resources/bin/R MsBackendMassbank.buildbin-libdir StartedAt: 2025-02-09 22:22:19 -0500 (Sun, 09 Feb 2025) EndedAt: 2025-02-09 22:22:24 -0500 (Sun, 09 Feb 2025) EllapsedTime: 5.1 seconds RetCode: 0 Status: OK PackageFile: MsBackendMassbank_1.15.2.tgz PackageFileSize: 630.9 KiB