Package: MsBackendMassbank Version: 1.15.2 Command: /Library/Frameworks/R.framework/Resources/bin/R CMD build --keep-empty-dirs --no-resave-data MsBackendMassbank StartedAt: 2025-02-09 17:02:28 -0500 (Sun, 09 Feb 2025) EndedAt: 2025-02-09 17:02:38 -0500 (Sun, 09 Feb 2025) EllapsedTime: 10.1 seconds RetCode: 0 Status: OK PackageFile: MsBackendMassbank_1.15.2.tar.gz PackageFileSize: 419.6 KiB