Package: MsBackendMassbank Version: 1.15.2 Command: /Library/Frameworks/R.framework/Resources/bin/R CMD check --install=check:MsBackendMassbank.install-out.txt --library=/Library/Frameworks/R.framework/Resources/library --no-vignettes --timings MsBackendMassbank_1.15.2.tar.gz StartedAt: 2025-02-09 20:16:51 -0500 (Sun, 09 Feb 2025) EndedAt: 2025-02-09 20:17:34 -0500 (Sun, 09 Feb 2025) EllapsedTime: 43.6 seconds RetCode: 0 Status: OK CheckDir: MsBackendMassbank.Rcheck Warnings: 0