Package: MsBackendMassbank Version: 1.15.2 Command: /Library/Frameworks/R.framework/Resources/bin/R CMD INSTALL MsBackendMassbank StartedAt: 2025-02-09 15:09:10 -0500 (Sun, 09 Feb 2025) EndedAt: 2025-02-09 15:09:15 -0500 (Sun, 09 Feb 2025) EllapsedTime: 5.1 seconds RetCode: 0 Status: OK