Package: MsBackendMassbank Version: 1.15.2 Command: /home/biocbuild/R/R/bin/R CMD build --keep-empty-dirs --no-resave-data MsBackendMassbank StartedAt: 2025-01-29 00:37:53 -0000 (Wed, 29 Jan 2025) EndedAt: 2025-01-29 00:38:26 -0000 (Wed, 29 Jan 2025) EllapsedTime: 33.0 seconds RetCode: 0 Status: OK PackageFile: MsBackendMassbank_1.15.2.tar.gz PackageFileSize: 464.7 KiB