Package: MsBackendMassbank Version: 1.15.2 Command: /home/biocbuild/bbs-3.21-bioc/R/bin/R CMD check --install=check:MsBackendMassbank.install-out.txt --library=/home/biocbuild/bbs-3.21-bioc/R/site-library --timings MsBackendMassbank_1.15.2.tar.gz StartedAt: 2025-02-13 00:28:28 -0500 (Thu, 13 Feb 2025) EndedAt: 2025-02-13 00:30:31 -0500 (Thu, 13 Feb 2025) EllapsedTime: 123.1 seconds RetCode: 0 Status: OK CheckDir: MsBackendMassbank.Rcheck Warnings: 0