Package: MsBackendMassbank Version: 1.15.2 Command: /home/biocbuild/bbs-3.21-bioc/R/bin/R CMD INSTALL MsBackendMassbank StartedAt: 2025-02-09 15:14:25 -0500 (Sun, 09 Feb 2025) EndedAt: 2025-02-09 15:14:36 -0500 (Sun, 09 Feb 2025) EllapsedTime: 11.6 seconds RetCode: 0 Status: OK