Package: MsBackendMassbank Version: 1.15.2 Command: chmod a+r MsBackendMassbank -R && E:\biocbuild\bbs-3.21-bioc\R\bin\R.exe CMD build --keep-empty-dirs --no-resave-data MsBackendMassbank StartedAt: 2025-02-09 20:05:54 -0500 (Sun, 09 Feb 2025) EndedAt: 2025-02-09 20:06:50 -0500 (Sun, 09 Feb 2025) EllapsedTime: 55.3 seconds RetCode: 0 Status: OK PackageFile: MsBackendMassbank_1.15.2.tar.gz PackageFileSize: 397.7 KiB