Package: MsBackendMassbank Version: 1.15.2 Command: E:\biocbuild\bbs-3.21-bioc\R\bin\R.exe CMD check --no-multiarch --install=check:MsBackendMassbank.install-out.txt --library=E:\biocbuild\bbs-3.21-bioc\R\library --no-vignettes --timings MsBackendMassbank_1.15.2.tar.gz StartedAt: 2025-02-10 03:14:32 -0500 (Mon, 10 Feb 2025) EndedAt: 2025-02-10 03:18:06 -0500 (Mon, 10 Feb 2025) EllapsedTime: 213.9 seconds RetCode: 0 Status: OK CheckDir: MsBackendMassbank.Rcheck Warnings: 0