Package: MsBackendMetaboLights Version: 1.1.0 Command: /Library/Frameworks/R.framework/Resources/bin/R CMD INSTALL MsBackendMetaboLights StartedAt: 2025-02-09 15:07:35 -0500 (Sun, 09 Feb 2025) EndedAt: 2025-02-09 15:07:40 -0500 (Sun, 09 Feb 2025) EllapsedTime: 5.0 seconds RetCode: 0 Status: OK