Package: MsBackendMetaboLights Version: 1.1.0 Command: rm -rf MsBackendMetaboLights.buildbin-libdir && mkdir MsBackendMetaboLights.buildbin-libdir && /Users/biocbuild/BBS/utils/build-universal.sh MsBackendMetaboLights_1.1.0.tar.gz /Library/Frameworks/R.framework/Resources/bin/R MsBackendMetaboLights.buildbin-libdir StartedAt: 2025-02-10 01:04:14 -0500 (Mon, 10 Feb 2025) EndedAt: 2025-02-10 01:04:35 -0500 (Mon, 10 Feb 2025) EllapsedTime: 20.8 seconds RetCode: 0 Status: OK PackageFile: MsBackendMetaboLights_1.1.0.tgz PackageFileSize: 346 KiB