Package: MsBackendMetaboLights Version: 1.1.0 Command: /Library/Frameworks/R.framework/Resources/bin/R CMD build --keep-empty-dirs --no-resave-data MsBackendMetaboLights StartedAt: 2025-02-09 17:35:45 -0500 (Sun, 09 Feb 2025) EndedAt: 2025-02-09 17:36:31 -0500 (Sun, 09 Feb 2025) EllapsedTime: 46.7 seconds RetCode: 0 Status: OK PackageFile: MsBackendMetaboLights_1.1.0.tar.gz PackageFileSize: 308.3 KiB