Package: MsBackendMetaboLights Version: 1.1.0 Command: /home/biocbuild/bbs-3.21-bioc/R/bin/R CMD build --keep-empty-dirs --no-resave-data MsBackendMetaboLights StartedAt: 2025-02-09 18:17:07 -0500 (Sun, 09 Feb 2025) EndedAt: 2025-02-09 18:17:43 -0500 (Sun, 09 Feb 2025) EllapsedTime: 36.0 seconds RetCode: 0 Status: OK PackageFile: MsBackendMetaboLights_1.1.0.tar.gz PackageFileSize: 308.4 KiB