Package: MsBackendMetaboLights Version: 1.1.0 Command: /home/biocbuild/bbs-3.21-bioc/R/bin/R CMD check --install=check:MsBackendMetaboLights.install-out.txt --library=/home/biocbuild/bbs-3.21-bioc/R/site-library --timings MsBackendMetaboLights_1.1.0.tar.gz StartedAt: 2025-02-10 00:28:40 -0500 (Mon, 10 Feb 2025) EndedAt: 2025-02-10 00:31:34 -0500 (Mon, 10 Feb 2025) EllapsedTime: 174.3 seconds RetCode: 1 Status: ERROR CheckDir: MsBackendMetaboLights.Rcheck Warnings: NA