Package: MsBackendMetaboLights Version: 1.1.0 Command: chmod a+r MsBackendMetaboLights -R && E:\biocbuild\bbs-3.21-bioc\R\bin\R.exe CMD build --keep-empty-dirs --no-resave-data MsBackendMetaboLights StartedAt: 2025-02-09 20:06:18 -0500 (Sun, 09 Feb 2025) EndedAt: 2025-02-09 20:07:24 -0500 (Sun, 09 Feb 2025) EllapsedTime: 66.3 seconds RetCode: 0 Status: OK PackageFile: MsBackendMetaboLights_1.1.0.tar.gz PackageFileSize: 308.5 KiB