Package: MsBackendMetaboLights Version: 1.1.0 Command: E:\biocbuild\bbs-3.21-bioc\R\bin\R.exe CMD INSTALL MsBackendMetaboLights StartedAt: 2025-02-12 15:40:36 -0500 (Wed, 12 Feb 2025) EndedAt: 2025-02-12 15:41:04 -0500 (Wed, 12 Feb 2025) EllapsedTime: 27.7 seconds RetCode: 0 Status: OK