Package: MsBackendMgf Version: 1.15.2 Command: rm -rf MsBackendMgf.buildbin-libdir && mkdir MsBackendMgf.buildbin-libdir && /Users/biocbuild/BBS/utils/build-universal.sh MsBackendMgf_1.15.2.tar.gz /Library/Frameworks/R.framework/Resources/bin/R MsBackendMgf.buildbin-libdir StartedAt: 2025-02-09 22:22:23 -0500 (Sun, 09 Feb 2025) EndedAt: 2025-02-09 22:22:28 -0500 (Sun, 09 Feb 2025) EllapsedTime: 5.1 seconds RetCode: 0 Status: OK PackageFile: MsBackendMgf_1.15.2.tgz PackageFileSize: 369.5 KiB