Package: MsBackendMgf Version: 1.15.2 Command: /Library/Frameworks/R.framework/Resources/bin/R CMD check --install=check:MsBackendMgf.install-out.txt --library=/Library/Frameworks/R.framework/Resources/library --no-vignettes --timings MsBackendMgf_1.15.2.tar.gz StartedAt: 2025-02-12 20:22:14 -0500 (Wed, 12 Feb 2025) EndedAt: 2025-02-12 20:22:45 -0500 (Wed, 12 Feb 2025) EllapsedTime: 31.5 seconds RetCode: 0 Status: OK CheckDir: MsBackendMgf.Rcheck Warnings: 0