Package: MsBackendMgf Version: 1.15.2 Command: /Library/Frameworks/R.framework/Resources/bin/R CMD build --keep-empty-dirs --no-resave-data MsBackendMgf StartedAt: 2025-02-09 17:36:18 -0500 (Sun, 09 Feb 2025) EndedAt: 2025-02-09 17:36:44 -0500 (Sun, 09 Feb 2025) EllapsedTime: 26.3 seconds RetCode: 0 Status: OK PackageFile: MsBackendMgf_1.15.2.tar.gz PackageFileSize: 328 KiB