Package: MsBackendMgf Version: 1.15.2 Command: /home/biocbuild/bbs-3.21-bioc/R/bin/R CMD check --install=check:MsBackendMgf.install-out.txt --library=/home/biocbuild/bbs-3.21-bioc/R/site-library --timings MsBackendMgf_1.15.2.tar.gz StartedAt: 2025-02-13 00:29:28 -0500 (Thu, 13 Feb 2025) EndedAt: 2025-02-13 00:30:49 -0500 (Thu, 13 Feb 2025) EllapsedTime: 81.1 seconds RetCode: 0 Status: OK CheckDir: MsBackendMgf.Rcheck Warnings: 0