Package: MsBackendMgf Version: 1.15.2 Command: /home/biocbuild/bbs-3.21-bioc/R/bin/R CMD INSTALL MsBackendMgf StartedAt: 2025-02-09 15:14:23 -0500 (Sun, 09 Feb 2025) EndedAt: 2025-02-09 15:14:32 -0500 (Sun, 09 Feb 2025) EllapsedTime: 9.1 seconds RetCode: 0 Status: OK