Package: MsBackendSql Version: 1.7.3 Command: /Library/Frameworks/R.framework/Resources/bin/R CMD build --keep-empty-dirs --no-resave-data MsBackendSql StartedAt: 2025-02-04 17:02:57 -0500 (Tue, 04 Feb 2025) EndedAt: 2025-02-04 17:03:28 -0500 (Tue, 04 Feb 2025) EllapsedTime: 31.4 seconds RetCode: 0 Status: OK PackageFile: MsBackendSql_1.7.3.tar.gz PackageFileSize: 340.6 KiB