Package: MsBackendSql Version: 1.7.3 Command: /home/biocbuild/R/R/bin/R CMD build --keep-empty-dirs --no-resave-data MsBackendSql StartedAt: 2025-01-29 00:38:38 -0000 (Wed, 29 Jan 2025) EndedAt: 2025-01-29 00:39:59 -0000 (Wed, 29 Jan 2025) EllapsedTime: 81.0 seconds RetCode: 0 Status: OK PackageFile: MsBackendSql_1.7.3.tar.gz PackageFileSize: 407 KiB