Package: MsBackendSql Version: 1.7.3 Command: /home/biocbuild/bbs-3.21-bioc/R/bin/R CMD build --keep-empty-dirs --no-resave-data MsBackendSql StartedAt: 2025-02-09 18:17:19 -0500 (Sun, 09 Feb 2025) EndedAt: 2025-02-09 18:18:24 -0500 (Sun, 09 Feb 2025) EllapsedTime: 65.0 seconds RetCode: 0 Status: OK PackageFile: MsBackendSql_1.7.3.tar.gz PackageFileSize: 340.7 KiB