Package: MsBackendSql Version: 1.7.3 Command: /home/biocbuild/bbs-3.21-bioc/R/bin/R CMD INSTALL MsBackendSql StartedAt: 2025-02-04 15:12:55 -0500 (Tue, 04 Feb 2025) EndedAt: 2025-02-04 15:13:10 -0500 (Tue, 04 Feb 2025) EllapsedTime: 14.8 seconds RetCode: 0 Status: OK