Package: MsBackendSql Version: 1.7.3 Command: rm -rf MsBackendSql.buildbin-libdir && mkdir MsBackendSql.buildbin-libdir && E:\biocbuild\bbs-3.21-bioc\R\bin\R.exe CMD INSTALL --build --library=MsBackendSql.buildbin-libdir MsBackendSql_1.7.3.tar.gz StartedAt: 2025-02-13 08:23:41 -0500 (Thu, 13 Feb 2025) EndedAt: 2025-02-13 08:24:37 -0500 (Thu, 13 Feb 2025) EllapsedTime: 56.1 seconds RetCode: 0 Status: OK PackageFile: MsBackendSql_1.7.3.zip PackageFileSize: 628.7 KiB