Package: MsBackendSql Version: 1.7.3 Command: chmod a+r MsBackendSql -R && E:\biocbuild\bbs-3.21-bioc\R\bin\R.exe CMD build --keep-empty-dirs --no-resave-data MsBackendSql StartedAt: 2025-02-09 20:06:51 -0500 (Sun, 09 Feb 2025) EndedAt: 2025-02-09 20:12:38 -0500 (Sun, 09 Feb 2025) EllapsedTime: 347.9 seconds RetCode: 0 Status: OK PackageFile: MsBackendSql_1.7.3.tar.gz PackageFileSize: 340.9 KiB