Package: MsBackendSql Version: 1.7.3 Command: E:\biocbuild\bbs-3.21-bioc\R\bin\R.exe CMD check --no-multiarch --install=check:MsBackendSql.install-out.txt --library=E:\biocbuild\bbs-3.21-bioc\R\library --no-vignettes --timings MsBackendSql_1.7.3.tar.gz StartedAt: 2025-02-10 03:16:30 -0500 (Mon, 10 Feb 2025) EndedAt: 2025-02-10 03:28:42 -0500 (Mon, 10 Feb 2025) EllapsedTime: 732.4 seconds RetCode: 0 Status: OK CheckDir: MsBackendSql.Rcheck Warnings: 0