Package: MsBackendSql Version: 1.7.3 Command: E:\biocbuild\bbs-3.21-bioc\R\bin\R.exe CMD INSTALL MsBackendSql StartedAt: 2025-02-09 15:40:40 -0500 (Sun, 09 Feb 2025) EndedAt: 2025-02-09 15:41:34 -0500 (Sun, 09 Feb 2025) EllapsedTime: 54.3 seconds RetCode: 0 Status: OK