Package: MsCoreUtils Version: 1.19.0 Command: rm -rf MsCoreUtils.buildbin-libdir && mkdir MsCoreUtils.buildbin-libdir && /Users/biocbuild/BBS/utils/build-universal.sh MsCoreUtils_1.19.0.tar.gz /Library/Frameworks/R.framework/Resources/bin/R MsCoreUtils.buildbin-libdir StartedAt: 2025-02-12 22:27:39 -0500 (Wed, 12 Feb 2025) EndedAt: 2025-02-12 22:27:43 -0500 (Wed, 12 Feb 2025) EllapsedTime: 4.1 seconds RetCode: 0 Status: OK PackageFile: MsCoreUtils_1.19.0.tgz PackageFileSize: 534.5 KiB