Package: MsCoreUtils Version: 1.19.0 Command: /Library/Frameworks/R.framework/Resources/bin/R CMD build --keep-empty-dirs --no-resave-data MsCoreUtils StartedAt: 2025-02-09 17:02:54 -0500 (Sun, 09 Feb 2025) EndedAt: 2025-02-09 17:03:00 -0500 (Sun, 09 Feb 2025) EllapsedTime: 6.1 seconds RetCode: 0 Status: OK PackageFile: MsCoreUtils_1.19.0.tar.gz PackageFileSize: 412 KiB