Package: MsCoreUtils Version: 1.19.0 Command: /Library/Frameworks/R.framework/Resources/bin/R CMD check --install=check:MsCoreUtils.install-out.txt --library=/Library/Frameworks/R.framework/Resources/library --no-vignettes --timings MsCoreUtils_1.19.0.tar.gz StartedAt: 2025-02-12 20:22:25 -0500 (Wed, 12 Feb 2025) EndedAt: 2025-02-12 20:24:02 -0500 (Wed, 12 Feb 2025) EllapsedTime: 97.1 seconds RetCode: 0 Status: OK CheckDir: MsCoreUtils.Rcheck Warnings: 0