Package: MsCoreUtils Version: 1.19.0 Command: /home/biocbuild/R/R/bin/R CMD INSTALL MsCoreUtils StartedAt: 2025-01-29 19:33:05 -0000 (Wed, 29 Jan 2025) EndedAt: 2025-01-29 19:33:31 -0000 (Wed, 29 Jan 2025) EllapsedTime: 25.5 seconds RetCode: 0 Status: OK