Package: MsCoreUtils Version: 1.19.0 Command: rm -rf MsCoreUtils.buildbin-libdir && mkdir MsCoreUtils.buildbin-libdir && /Users/biocbuild/BBS/utils/build-universal.sh MsCoreUtils_1.19.0.tar.gz /Library/Frameworks/R.framework/Resources/bin/R MsCoreUtils.buildbin-libdir StartedAt: 2025-02-13 00:47:14 -0500 (Thu, 13 Feb 2025) EndedAt: 2025-02-13 00:47:26 -0500 (Thu, 13 Feb 2025) EllapsedTime: 12.7 seconds RetCode: 0 Status: OK PackageFile: MsCoreUtils_1.19.0.tgz PackageFileSize: 534.8 KiB