Package: MsCoreUtils Version: 1.19.0 Command: rm -rf MsCoreUtils.buildbin-libdir && mkdir MsCoreUtils.buildbin-libdir && E:\biocbuild\bbs-3.21-bioc\R\bin\R.exe CMD INSTALL --build --library=MsCoreUtils.buildbin-libdir MsCoreUtils_1.19.0.tar.gz StartedAt: 2025-02-10 08:13:10 -0500 (Mon, 10 Feb 2025) EndedAt: 2025-02-10 08:13:44 -0500 (Mon, 10 Feb 2025) EllapsedTime: 33.0 seconds RetCode: 0 Status: OK PackageFile: MsCoreUtils_1.19.0.zip PackageFileSize: 537.6 KiB