Package: MsCoreUtils Version: 1.19.0 Command: E:\biocbuild\bbs-3.21-bioc\R\bin\R.exe CMD check --no-multiarch --install=check:MsCoreUtils.install-out.txt --library=E:\biocbuild\bbs-3.21-bioc\R\library --no-vignettes --timings MsCoreUtils_1.19.0.tar.gz StartedAt: 2025-02-10 03:16:44 -0500 (Mon, 10 Feb 2025) EndedAt: 2025-02-10 03:21:45 -0500 (Mon, 10 Feb 2025) EllapsedTime: 301.0 seconds RetCode: 0 Status: OK CheckDir: MsCoreUtils.Rcheck Warnings: 0