Package: MsDataHub Version: 1.7.0 Command: /Library/Frameworks/R.framework/Resources/bin/R CMD check --install=check:MsDataHub.install-out.txt --library=/Library/Frameworks/R.framework/Resources/library --no-vignettes --timings MsDataHub_1.7.0.tar.gz StartedAt: 2025-02-09 20:17:42 -0500 (Sun, 09 Feb 2025) EndedAt: 2025-02-09 20:18:26 -0500 (Sun, 09 Feb 2025) EllapsedTime: 43.5 seconds RetCode: 0 Status: OK CheckDir: MsDataHub.Rcheck Warnings: 0