Package: MsDataHub Version: 1.7.0 Command: /home/biocbuild/R/R/bin/R CMD INSTALL MsDataHub StartedAt: 2025-01-29 19:49:51 -0000 (Wed, 29 Jan 2025) EndedAt: 2025-01-29 19:50:13 -0000 (Wed, 29 Jan 2025) EllapsedTime: 21.4 seconds RetCode: 0 Status: OK