Package: MsDataHub Version: 1.7.0 Command: rm -rf MsDataHub.buildbin-libdir && mkdir MsDataHub.buildbin-libdir && /Users/biocbuild/BBS/utils/build-universal.sh MsDataHub_1.7.0.tar.gz /Library/Frameworks/R.framework/Resources/bin/R MsDataHub.buildbin-libdir StartedAt: 2025-02-10 01:04:27 -0500 (Mon, 10 Feb 2025) EndedAt: 2025-02-10 01:04:49 -0500 (Mon, 10 Feb 2025) EllapsedTime: 22.0 seconds RetCode: 0 Status: OK PackageFile: MsDataHub_1.7.0.tgz PackageFileSize: 384.9 KiB