Package: MsDataHub Version: 1.7.0 Command: /home/biocbuild/bbs-3.21-bioc/R/bin/R CMD check --install=check:MsDataHub.install-out.txt --library=/home/biocbuild/bbs-3.21-bioc/R/site-library --timings MsDataHub_1.7.0.tar.gz StartedAt: 2025-02-10 00:30:05 -0500 (Mon, 10 Feb 2025) EndedAt: 2025-02-10 00:35:47 -0500 (Mon, 10 Feb 2025) EllapsedTime: 341.5 seconds RetCode: 0 Status: OK CheckDir: MsDataHub.Rcheck Warnings: 0