Package: MsDataHub Version: 1.7.0 Command: /home/biocbuild/bbs-3.21-bioc/R/bin/R CMD INSTALL MsDataHub StartedAt: 2025-02-12 15:26:30 -0500 (Wed, 12 Feb 2025) EndedAt: 2025-02-12 15:26:43 -0500 (Wed, 12 Feb 2025) EllapsedTime: 13.7 seconds RetCode: 0 Status: OK