Package: MsDataHub Version: 1.7.0 Command: rm -rf MsDataHub.buildbin-libdir && mkdir MsDataHub.buildbin-libdir && E:\biocbuild\bbs-3.21-bioc\R\bin\R.exe CMD INSTALL --build --library=MsDataHub.buildbin-libdir MsDataHub_1.7.0.tar.gz StartedAt: 2025-02-13 08:23:45 -0500 (Thu, 13 Feb 2025) EndedAt: 2025-02-13 08:24:05 -0500 (Thu, 13 Feb 2025) EllapsedTime: 20.1 seconds RetCode: 0 Status: OK PackageFile: MsDataHub_1.7.0.zip PackageFileSize: 391.4 KiB