Package: MsDataHub Version: 1.7.0 Command: E:\biocbuild\bbs-3.21-bioc\R\bin\R.exe CMD INSTALL MsDataHub StartedAt: 2025-02-12 15:49:13 -0500 (Wed, 12 Feb 2025) EndedAt: 2025-02-12 15:49:38 -0500 (Wed, 12 Feb 2025) EllapsedTime: 25.0 seconds RetCode: 0 Status: OK