Package: MsFeatures Version: 1.15.0 Command: /Library/Frameworks/R.framework/Resources/bin/R CMD INSTALL MsFeatures StartedAt: 2025-02-09 15:04:37 -0500 (Sun, 09 Feb 2025) EndedAt: 2025-02-09 15:04:45 -0500 (Sun, 09 Feb 2025) EllapsedTime: 8.3 seconds RetCode: 0 Status: OK