Package: MsFeatures Version: 1.15.0 Command: /home/biocbuild/R/R/bin/R CMD INSTALL MsFeatures StartedAt: 2025-01-29 19:40:13 -0000 (Wed, 29 Jan 2025) EndedAt: 2025-01-29 19:40:42 -0000 (Wed, 29 Jan 2025) EllapsedTime: 28.4 seconds RetCode: 0 Status: OK