Package: MsFeatures Version: 1.15.0 Command: /Library/Frameworks/R.framework/Resources/bin/R CMD build --keep-empty-dirs --no-resave-data MsFeatures StartedAt: 2025-02-03 17:35:45 -0500 (Mon, 03 Feb 2025) EndedAt: 2025-02-03 17:36:37 -0500 (Mon, 03 Feb 2025) EllapsedTime: 51.4 seconds RetCode: 0 Status: OK PackageFile: MsFeatures_1.15.0.tar.gz PackageFileSize: 1.213 MiB