Package: MsFeatures Version: 1.15.0 Command: /Library/Frameworks/R.framework/Resources/bin/R CMD check --install=check:MsFeatures.install-out.txt --library=/Library/Frameworks/R.framework/Resources/library --no-vignettes --timings MsFeatures_1.15.0.tar.gz StartedAt: 2025-02-09 22:08:01 -0500 (Sun, 09 Feb 2025) EndedAt: 2025-02-09 22:10:57 -0500 (Sun, 09 Feb 2025) EllapsedTime: 176.4 seconds RetCode: 0 Status: OK CheckDir: MsFeatures.Rcheck Warnings: 0