Package: MsFeatures Version: 1.15.0 Command: /Library/Frameworks/R.framework/Resources/bin/R CMD INSTALL MsFeatures StartedAt: 2025-02-03 15:15:37 -0500 (Mon, 03 Feb 2025) EndedAt: 2025-02-03 15:16:06 -0500 (Mon, 03 Feb 2025) EllapsedTime: 29.5 seconds RetCode: 0 Status: OK