Package: MsFeatures Version: 1.15.0 Command: /home/biocbuild/bbs-3.21-bioc/R/bin/R CMD check --install=check:MsFeatures.install-out.txt --library=/home/biocbuild/bbs-3.21-bioc/R/site-library --timings MsFeatures_1.15.0.tar.gz StartedAt: 2025-02-10 00:30:13 -0500 (Mon, 10 Feb 2025) EndedAt: 2025-02-10 00:33:09 -0500 (Mon, 10 Feb 2025) EllapsedTime: 175.2 seconds RetCode: 0 Status: OK CheckDir: MsFeatures.Rcheck Warnings: 0